BEGIN:VCALENDAR
VERSION:2.0
PRODID:Events Booking
BEGIN:VEVENT
UID:69e4de5c14e14
SUMMARY:LUGA Besuch
DESCRIPTION:LUGA Besuch
DTSTART:20260501T220000Z
DTSTAMP:20260227T121741Z
ORGANIZER;CN=Vereinigung Cerebral Zentralschweiz:MAILTO:info@beelicomm.ch
END:VEVENT
END:VCALENDAR