BEGIN:VCALENDAR
VERSION:2.0
PRODID:Events Booking
BEGIN:VEVENT
UID:69e4e074b9450
SUMMARY:Grillieren\, Haselhütte Sursee
DESCRIPTION:Grillieren\, Haselhütte Sursee
LOCATION:Schellenrain 97\, 6210 Sursee\, Schweiz
DTSTART:20260605T220000Z
DTSTAMP:20260227T122028Z
ORGANIZER;CN=Vereinigung Cerebral Zentralschweiz:MAILTO:info@beelicomm.ch
GEO:47.164289;8.099119
X-APPLE-STRUCTURED-LOCATION;VALUE=URI;X-ADDRESS=Schellenrain 97\, 6210 Surs
 ee\, Schweiz;X-APPLE-RADIUS=72;X-TITLE=Haselhütte Sursee:47.164289;8.0991
 19
END:VEVENT
END:VCALENDAR