BEGIN:VCALENDAR
VERSION:2.0
PRODID:Events Booking
BEGIN:VEVENT
UID:69e4df02ac294
SUMMARY:Wochenende April
DESCRIPTION:
DTSTART:20260423T220000Z
DTEND:20260425T220000Z
DTSTAMP:20260227T123059Z
ORGANIZER;CN=Vereinigung Cerebral Zentralschweiz:MAILTO:info@beelicomm.ch
END:VEVENT
END:VCALENDAR