BEGIN:VCALENDAR
VERSION:2.0
PRODID:Events Booking
BEGIN:VEVENT
UID:69e4dfc19161d
SUMMARY:Café Inklusiv Mai (Brunch)
DESCRIPTION:Feiner Brunch organisiert von der Stiftung Rodtegg im Neubad Lu
 zern.Café Inklusiv ist mit dabei
LOCATION:Bireggstrasse 36\, 6003 Luzern\, Schweiz
DTSTART:20260502T080000Z
DTEND:20260502T120000Z
DTSTAMP:20260227T132629Z
ORGANIZER;CN=Vereinigung Cerebral Zentralschweiz:MAILTO:info@beelicomm.ch
GEO:47.041409;8.307139
X-APPLE-STRUCTURED-LOCATION;VALUE=URI;X-ADDRESS=Bireggstrasse 36\, 6003 Luz
 ern\, Schweiz;X-APPLE-RADIUS=72;X-TITLE=Neubad Luzern:47.041409;8.307139
END:VEVENT
END:VCALENDAR