BEGIN:VCALENDAR
VERSION:2.0
PRODID:Events Booking
BEGIN:VEVENT
UID:69e4de51d71be
SUMMARY:Reusswanderung
DESCRIPTION:Infos folgen
DTSTART:20260414T220000Z
DTSTAMP:20260227T133247Z
ORGANIZER;CN=Vereinigung Cerebral Zentralschweiz:MAILTO:info@beelicomm.ch
END:VEVENT
END:VCALENDAR