BEGIN:VCALENDAR
VERSION:2.0
PRODID:Events Booking
BEGIN:VEVENT
UID:69e4df24f28e0
SUMMARY:Globi Express nach Engelberg
DESCRIPTION:Globi Express nach Engelberg
DTSTART:20260313T230000Z
DTSTAMP:20260227T085242Z
ORGANIZER;CN=Vereinigung Cerebral Zentralschweiz:MAILTO:info@beelicomm.ch
END:VEVENT
END:VCALENDAR