BEGIN:VCALENDAR
VERSION:2.0
PRODID:Events Booking
BEGIN:VEVENT
UID:69e4df23d5488
SUMMARY:Wochenende März
DESCRIPTION:
DTSTART:20260327T230000Z
DTEND:20260328T230000Z
DTSTAMP:20260227T121045Z
ORGANIZER;CN=Vereinigung Cerebral Zentralschweiz:MAILTO:info@beelicomm.ch
END:VEVENT
END:VCALENDAR