BEGIN:VCALENDAR
VERSION:2.0
PRODID:Events Booking
BEGIN:VEVENT
UID:69e4df6e865cb
SUMMARY:Osterbacken und - basteln
DESCRIPTION:Osterbacken und - basteln
LOCATION:Gibraltarstrasse 14\, 6003 Luzern\, Schweiz
DTSTART:20260403T220000Z
DTSTAMP:20260227T121424Z
ORGANIZER;CN=Vereinigung Cerebral Zentralschweiz:MAILTO:info@beelicomm.ch
GEO:47.05032;8.299085
X-APPLE-STRUCTURED-LOCATION;VALUE=URI;X-ADDRESS=Gibraltarstrasse 14\, 6003 
 Luzern\, Schweiz;X-APPLE-RADIUS=72;X-TITLE=Contenti Luzern:47.05032;8.2990
 85
END:VEVENT
END:VCALENDAR