BEGIN:VCALENDAR
VERSION:2.0
PRODID:Events Booking
BEGIN:VEVENT
UID:69e4e0dd0a952
SUMMARY:Foto-Schnitzeljagd
DESCRIPTION:
 
 Foto-Schnitzeljagd
 
 
DTSTART:20260612T220000Z
DTSTAMP:20260227T123009Z
ORGANIZER;CN=Vereinigung Cerebral Zentralschweiz:MAILTO:info@beelicomm.ch
END:VEVENT
END:VCALENDAR