BEGIN:VCALENDAR
VERSION:2.0
PRODID:Events Booking
BEGIN:VEVENT
UID:69e4dfc7acace
SUMMARY:Bowling in Sursee
DESCRIPTION:
 
 Bowling in Sursee
 
 
LOCATION:Infanteriestrasse 2\, 6210 Sursee\, Schweiz
DTSTART:20260321T090000Z
DTSTAMP:20250521T141732Z
ORGANIZER;CN=Vereinigung Cerebral Zentralschweiz:MAILTO:info@beelicomm.ch
GEO:47.179295;8.105441
X-APPLE-STRUCTURED-LOCATION;VALUE=URI;X-ADDRESS=Infanteriestrasse 2\, 6210 
 Sursee\, Schweiz;X-APPLE-RADIUS=72;X-TITLE=Bowling Sursee:47.179295;8.1054
 41
END:VEVENT
END:VCALENDAR