BEGIN:VCALENDAR
VERSION:2.0
PRODID:Events Booking
BEGIN:VEVENT
UID:69e4dfe67b2fa
SUMMARY:Wochenende Mai
DESCRIPTION:
DTSTART:20260515T220000Z
DTEND:20260516T220000Z
DTSTAMP:20260227T123133Z
ORGANIZER;CN=Vereinigung Cerebral Zentralschweiz:MAILTO:info@beelicomm.ch
END:VEVENT
END:VCALENDAR