BEGIN:VCALENDAR
VERSION:2.0
PRODID:Events Booking
BEGIN:VEVENT
UID:69e4e475606d1
SUMMARY:Wochenende Juni
DESCRIPTION:
DTSTART:20260619T220000Z
DTEND:20260620T220000Z
DTSTAMP:20260227T123154Z
ORGANIZER;CN=Vereinigung Cerebral Zentralschweiz:MAILTO:info@beelicomm.ch
END:VEVENT
END:VCALENDAR