BEGIN:VCALENDAR
VERSION:2.0
PRODID:Events Booking
BEGIN:VEVENT
UID:69e4dd641f33d
SUMMARY:Café Inklusiv Juni
DESCRIPTION:Im Anschluss Rollidisco
 Hast du Lust\, dich mit uns im Bistro
  des Neubad Luzern einmal oder wenn es dir Spass macht\, regelmässig zu t
 reffen\, neue Leute kennenzulernen und eine coole Zeit zu verbringen?
 Du
  bist über 18 Jahre alt und kommst allein oder falls du Unterstützung be
 nötigst\, bringst du deine Assistenzperson gleich mit. Zu unserer Runde i
 n lockerer und unkomplizierter Atmosphäre gesellen sich Menschen mit und 
 ohne Beeinträchtigung.
 Das Café Inklusiv findet jeweils an einem Samst
 ag im &nbsp\;Monat von 14 – 17 Uhr statt. Anmeldung ist erwünscht:&nbsp
 \;info@cerebral-zentralschweiz.ch
LOCATION:Bireggstrasse 36\, 6003 Luzern\, Schweiz
DTSTART:20260606T120000Z
DTEND:20260606T150000Z
DTSTAMP:20260227T131722Z
ORGANIZER;CN=Vereinigung Cerebral Zentralschweiz:MAILTO:info@beelicomm.ch
GEO:47.041409;8.307139
X-APPLE-STRUCTURED-LOCATION;VALUE=URI;X-ADDRESS=Bireggstrasse 36\, 6003 Luz
 ern\, Schweiz;X-APPLE-RADIUS=72;X-TITLE=Neubad Luzern:47.041409;8.307139
END:VEVENT
END:VCALENDAR