BEGIN:VCALENDAR
VERSION:2.0
PRODID:Events Booking
BEGIN:VEVENT
UID:69e4dc16b2079
SUMMARY:Café Inklusiv April
DESCRIPTION:Hast du Lust\, dich mit uns im Bistro des Neubad Luzern einmal 
 oder wenn es dir Spass macht\, regelmässig zu treffen\, neue Leute kennen
 zulernen und eine coole Zeit zu verbringen?
 Du bist über 18 Jahre alt u
 nd kommst allein oder falls du Unterstützung benötigst\, bringst du dein
 e Assistenzperson gleich mit. Zu unserer Runde in lockerer und unkomplizie
 rter Atmosphäre gesellen sich Menschen mit und ohne Beeinträchtigung.
 
 Das Café Inklusiv findet jeweils an einem Samstag im &nbsp\;Monat von 14 
 – 17 Uhr statt. Anmeldung ist erwünscht:&nbsp\;info@cerebral-zentralsch
 weiz.ch
LOCATION:Bireggstrasse 36\, 6003 Luzern\, Schweiz
DTSTART:20260411T120000Z
DTEND:20260411T150000Z
DTSTAMP:20260227T133027Z
ORGANIZER;CN=Vereinigung Cerebral Zentralschweiz:MAILTO:info@beelicomm.ch
GEO:47.041409;8.307139
X-APPLE-STRUCTURED-LOCATION;VALUE=URI;X-ADDRESS=Bireggstrasse 36\, 6003 Luz
 ern\, Schweiz;X-APPLE-RADIUS=72;X-TITLE=Neubad Luzern:47.041409;8.307139
END:VEVENT
END:VCALENDAR